BEGIN:VCALENDAR
VERSION:2.0
PRODID:-//Elizabeth Academy - ECPv6.15.20//NONSGML v1.0//EN
CALSCALE:GREGORIAN
METHOD:PUBLISH
X-WR-CALNAME:Elizabeth Academy
X-ORIGINAL-URL:https://www.elizabethacademy.com
X-WR-CALDESC:Events for Elizabeth Academy
REFRESH-INTERVAL;VALUE=DURATION:PT1H
X-Robots-Tag:noindex
X-PUBLISHED-TTL:PT1H
BEGIN:VTIMEZONE
TZID:America/Denver
BEGIN:DAYLIGHT
TZOFFSETFROM:-0700
TZOFFSETTO:-0600
TZNAME:MDT
DTSTART:20250309T090000
END:DAYLIGHT
BEGIN:STANDARD
TZOFFSETFROM:-0600
TZOFFSETTO:-0700
TZNAME:MST
DTSTART:20251102T080000
END:STANDARD
BEGIN:DAYLIGHT
TZOFFSETFROM:-0700
TZOFFSETTO:-0600
TZNAME:MDT
DTSTART:20260308T090000
END:DAYLIGHT
BEGIN:STANDARD
TZOFFSETFROM:-0600
TZOFFSETTO:-0700
TZNAME:MST
DTSTART:20261101T080000
END:STANDARD
BEGIN:DAYLIGHT
TZOFFSETFROM:-0700
TZOFFSETTO:-0600
TZNAME:MDT
DTSTART:20270314T090000
END:DAYLIGHT
BEGIN:STANDARD
TZOFFSETFROM:-0600
TZOFFSETTO:-0700
TZNAME:MST
DTSTART:20271107T080000
END:STANDARD
END:VTIMEZONE
BEGIN:VTIMEZONE
TZID:America/Boise
BEGIN:DAYLIGHT
TZOFFSETFROM:-0700
TZOFFSETTO:-0600
TZNAME:MDT
DTSTART:20250309T090000
END:DAYLIGHT
BEGIN:STANDARD
TZOFFSETFROM:-0600
TZOFFSETTO:-0700
TZNAME:MST
DTSTART:20251102T080000
END:STANDARD
BEGIN:DAYLIGHT
TZOFFSETFROM:-0700
TZOFFSETTO:-0600
TZNAME:MDT
DTSTART:20260308T090000
END:DAYLIGHT
BEGIN:STANDARD
TZOFFSETFROM:-0600
TZOFFSETTO:-0700
TZNAME:MST
DTSTART:20261101T080000
END:STANDARD
BEGIN:DAYLIGHT
TZOFFSETFROM:-0700
TZOFFSETTO:-0600
TZNAME:MDT
DTSTART:20270314T090000
END:DAYLIGHT
BEGIN:STANDARD
TZOFFSETFROM:-0600
TZOFFSETTO:-0700
TZNAME:MST
DTSTART:20271107T080000
END:STANDARD
END:VTIMEZONE
BEGIN:VEVENT
DTSTART;VALUE=DATE:20260420
DTEND;VALUE=DATE:20260425
DTSTAMP:20260420T004619
CREATED:20250902T204501Z
LAST-MODIFIED:20250902T204501Z
UID:10000122-1776643200-1777075199@www.elizabethacademy.com
SUMMARY:Teacher Appreciation Week
DESCRIPTION:
URL:https://www.elizabethacademy.com/event/teacher-appreciation-week/
CATEGORIES:Event
ATTACH;FMTTYPE=image/png:https://www.elizabethacademy.com/site/uploads/2025/09/Pancake-Breakfast.png
END:VEVENT
BEGIN:VEVENT
DTSTART;TZID=America/Boise:20260420T180000
DTEND;TZID=America/Boise:20260420T190000
DTSTAMP:20260420T004619
CREATED:20251212T165341Z
LAST-MODIFIED:20260414T191705Z
UID:10000141-1776708000-1776711600@www.elizabethacademy.com
SUMMARY:Winnie the Pooh Kids! Musical Performance
DESCRIPTION:🍯 Join Us in the Hundred Acre Wood!\nElizabeth Academy students invite you to a magical performance of Winnie the Pooh Kids! \nFollow Pooh and his dear friends on an enchanting musical adventure as they hunt for honey and work together to save Christopher Robin from the mysterious “Backson.” It’s a heartwarming story of friendship and teamwork that you won’t want to miss. \nLimited seating! Purchase tickets in the school store: www.elizabethacademy.com/store
URL:https://www.elizabethacademy.com/event/winnie-the-pooh-kids-musical-performance/2026-04-20/
LOCATION:Primary School
CATEGORIES:Event
ATTACH;FMTTYPE=image/png:https://www.elizabethacademy.com/site/uploads/2025/12/ALL.png
END:VEVENT
END:VCALENDAR