BEGIN:VCALENDAR
VERSION:2.0
PRODID:-//Elizabeth Academy - ECPv6.15.20//NONSGML v1.0//EN
CALSCALE:GREGORIAN
METHOD:PUBLISH
X-ORIGINAL-URL:https://www.elizabethacademy.com
X-WR-CALDESC:Events for Elizabeth Academy
REFRESH-INTERVAL;VALUE=DURATION:PT1H
X-Robots-Tag:noindex
X-PUBLISHED-TTL:PT1H
BEGIN:VTIMEZONE
TZID:America/Denver
BEGIN:DAYLIGHT
TZOFFSETFROM:-0700
TZOFFSETTO:-0600
TZNAME:MDT
DTSTART:20250309T090000
END:DAYLIGHT
BEGIN:STANDARD
TZOFFSETFROM:-0600
TZOFFSETTO:-0700
TZNAME:MST
DTSTART:20251102T080000
END:STANDARD
BEGIN:DAYLIGHT
TZOFFSETFROM:-0700
TZOFFSETTO:-0600
TZNAME:MDT
DTSTART:20260308T090000
END:DAYLIGHT
BEGIN:STANDARD
TZOFFSETFROM:-0600
TZOFFSETTO:-0700
TZNAME:MST
DTSTART:20261101T080000
END:STANDARD
BEGIN:DAYLIGHT
TZOFFSETFROM:-0700
TZOFFSETTO:-0600
TZNAME:MDT
DTSTART:20270314T090000
END:DAYLIGHT
BEGIN:STANDARD
TZOFFSETFROM:-0600
TZOFFSETTO:-0700
TZNAME:MST
DTSTART:20271107T080000
END:STANDARD
END:VTIMEZONE
BEGIN:VEVENT
DTSTART;TZID=America/Denver:20260313T073000
DTEND;TZID=America/Denver:20260313T083000
DTSTAMP:20260420T004911
CREATED:20250902T203511Z
LAST-MODIFIED:20250902T203511Z
UID:10000116-1773387000-1773390600@www.elizabethacademy.com
SUMMARY:Pancake Breakfast - Primary Campus
DESCRIPTION:
URL:https://www.elizabethacademy.com/event/pancake-breakfast-primary-campus-3/
CATEGORIES:Event
ATTACH;FMTTYPE=image/png:https://www.elizabethacademy.com/site/uploads/2024/11/Pancake-Breakfast.png
END:VEVENT
END:VCALENDAR